BEGIN:VCALENDAR
VERSION:2.0
PRODID:-//Tukios.com/
BEGIN:VEVENT
UID:d80e7fb7-708b-4902-a976-4796b3bb7611@www.taylorfuneralservice.com
DTSTAMP:20260424T214657Z
DTSTART:20260509T163000Z
DTEND:20260509T173000Z
SUMMARY:Graveside Service
DESCRIPTION:
URL:https://www.taylorfuneralservice.com/obituaries/timothy-houge
LOCATION: 1171 S Hwy 50 Business Loop  Olathe CO 81425
GEO:38.598825;-107.9760084
END:VEVENT
END:VCALENDAR