BEGIN:VCALENDAR
VERSION:2.0
PRODID:-//Tukios.com/
BEGIN:VEVENT
UID:a12afb72-2a5e-4edd-96bf-80980953aa33@www.taylorfuneralservice.com
DTSTAMP:20260420T204701Z
DTSTART:20260425T200000Z
DTEND:20260425T210000Z
SUMMARY:Memorial Service
DESCRIPTION:
URL:https://www.taylorfuneralservice.com/obituaries/john-buerger
LOCATION:True Life Church 205 SE Independence Ave  Cedaredge CO 81413
GEO:38.8906641;-107.9266759
END:VEVENT
END:VCALENDAR