BEGIN:VCALENDAR
VERSION:2.0
PRODID:-//Tukios.com/
BEGIN:VEVENT
UID:af4b3e1d-93d9-48e4-89ab-d18fdd887775@www.taylorfuneralservice.com
DTSTAMP:20260421T181840Z
DTSTART:20260530T180000Z
DTEND:20260530T210000Z
SUMMARY:Celebration of Life
DESCRIPTION:
URL:https://www.taylorfuneralservice.com/obituaries/helmut-hal-wendler
LOCATION:South Fork Community Building 254 CO-149  South Fork CO 81154
GEO:37.6711842;-106.6438531
END:VEVENT
END:VCALENDAR