BEGIN:VCALENDAR
VERSION:2.0
PRODID:-//Tukios.com/
BEGIN:VEVENT
UID:7ee839a5-8682-4559-b999-47d0c807422a@www.taylorfuneralservice.com
DTSTAMP:20260423T181213Z
DTSTART:20260502T183000Z
DTEND:20260502T193000Z
SUMMARY:Celebration of Life
DESCRIPTION:
URL:https://www.taylorfuneralservice.com/obituaries/fred-boulay
LOCATION:Orchard City Community Park 11245 2100 Road  Austin CO 81410
GEO:38.815584;-107.973925
END:VEVENT
END:VCALENDAR