BEGIN:VCALENDAR
VERSION:2.0
PRODID:-//Tukios.com/
BEGIN:VEVENT
UID:433e7fe2-11cc-4f77-bfe4-bed5456c0314@www.taylorfuneralservice.com
DTSTAMP:20260423T181510Z
DTSTART:20260502T170000Z
DTEND:20260502T180000Z
SUMMARY:Memorial Service
DESCRIPTION:
URL:https://www.taylorfuneralservice.com/obituaries/fred-boulay
LOCATION: 21987 Austin Rd  Austin CO 81410
GEO:38.7803728;-107.9519435
END:VEVENT
END:VCALENDAR